BEGIN:VCALENDAR
VERSION:2.0
PRODID:-//SustainCERT Academy - ECPv6.0.11//NONSGML v1.0//EN
CALSCALE:GREGORIAN
METHOD:PUBLISH
X-WR-CALNAME:SustainCERT Academy
X-ORIGINAL-URL:https://academy.sustain-cert.com
X-WR-CALDESC:Events for SustainCERT Academy
REFRESH-INTERVAL;VALUE=DURATION:PT1H
X-Robots-Tag:noindex
X-PUBLISHED-TTL:PT1H
BEGIN:VTIMEZONE
TZID:UTC
BEGIN:STANDARD
TZOFFSETFROM:+0000
TZOFFSETTO:+0000
TZNAME:UTC
DTSTART:20220101T000000
END:STANDARD
END:VTIMEZONE
BEGIN:VEVENT
DTSTART;VALUE=DATE:20220131
DTEND;VALUE=DATE:20220201
DTSTAMP:20230403T041615
CREATED:20220122T040707Z
LAST-MODIFIED:20220122T040707Z
UID:1375-1643587200-1643673599@academy.sustain-cert.com
SUMMARY:Sustainable Carbon Cycles Conference
DESCRIPTION:Welcome\n It is our pleasure to welcome you to the one-day Sustainable Carbon Cycles Conference. The event is organised by the European Commission on 31 January 2022. The conference will bring together decision makers and experts from different backgrounds to share their experiences in view of the upcoming EU regulatory initiative on the certification of carbon removals. \n  \nTo balance out the impacts of our CO2 emissions\, the EU will need to drastically reduce its reliance on fossil carbon\, upscale carbon farming to store more carbon in nature\, and promote industrial solutions to sustainably and verifiably remove and recycle carbon. Removing and storing more carbon\, from the atmosphere\, oceans and coastal wetlands\, is essential to achieve the EU’s legally binding commitment to become climate neutral by 2050. \nIn December 2021\, the Commission adopted the Communication “Sustainable Carbon Cycles” that outlines EU-wide actions to scale up carbon farming initiatives and industrial solutions in order to sustainably capture\, store and recycle carbon. By the end of 2022\, the Commission will propose an EU regulatory framework for the certification of carbon removals based on robust and transparent carbon accounting rules to monitor and verify the authenticity and environmental integrity of carbon removals. A Call for Evidence will also be launched in January. \nJoin us on 31 January together with public authorities\, industry representatives and civil society to exchange on the role and potential of carbon removals in the EU and feed into the discussion on the upcoming regulatory framework for their certification. \nHigh-level speakers include Executive Vice-President of the European Commission responsible for the European Green Deal Frans Timmermans\, Commissioner for Agriculture Janusz Wojciechowski\, French Minister for Ecological Transition Barbara Pompili and French Minister for Agriculture Julien Denormandie. Furthermore\, more technical topics will be discussed during four panel sessions with the participation of experts and relevant stakeholders. \nFind out more on sustainable carbon cycles. \n  \nOrganisation\nOnce registered on the website\, you will receive a confirmation email within a few working days. Please consult the website regularly to view any updates. \nWe look forward to welcome you in our virtual meeting space!
URL:https://academy.sustain-cert.com/event/sustainable-carbon-cycles-conference/
ATTACH;FMTTYPE=image/jpeg:https://academy.sustain-cert.com/wp-content/uploads/sites/3/2022/01/8358059881-84a3e87f26.jpg
END:VEVENT
END:VCALENDAR